BEGIN:VCALENDAR
VERSION:2.0
PRODID:-//ChamberMaster//Event Calendar 2.0//EN
METHOD:PUBLISH
X-PUBLISHED-TTL:P3D
REFRESH-INTERVAL:P3D
CALSCALE:GREGORIAN
BEGIN:VEVENT
DTSTART:20230826T220000Z
DTEND:20230827T020000Z
X-MICROSOFT-CDO-ALLDAYEVENT:FALSE
SUMMARY:Bids Brews and Beats
DESCRIPTION:Family fun event with live music\, food trucks\, beverages\, games\, and a live auction starting at 7pm. The proceeds will go to Secret Meals\, a program started by Alabama Credit Union\, that helps discretely feed hungry school age children here in our local communities.
X-ALT-DESC;FMTTYPE=text/html:Family fun event with live music\, food trucks\, beverages\, games\, and a live auction starting at 7pm. The proceeds will go to Secret Meals\, a program started by Alabama Credit Union\, that helps discretely feed hungry school age children here in our local communities.
LOCATION:Coastal Alabama's Farmer's Market 20733 Mifflin Rd Foley\, AL
UID:e.1304.27655
SEQUENCE:3
DTSTAMP:20260420T020610Z
URL:https://business.eschamber.com/events/details/bids-brews-and-beats-27655
END:VEVENT

END:VCALENDAR
