BEGIN:VCALENDAR
VERSION:2.0
PRODID:-//ChamberMaster//Event Calendar 2.0//EN
METHOD:PUBLISH
X-PUBLISHED-TTL:P3D
REFRESH-INTERVAL:P3D
CALSCALE:GREGORIAN
BEGIN:VEVENT
DTSTART:20250104T203000Z
DTEND:20250105T030000Z
X-MICROSOFT-CDO-ALLDAYEVENT:FALSE
SUMMARY:BILL-E's BACON\, BURGERS\, & BIKES - January Saturday daytime due to the first Wednesday being New Years Day
DESCRIPTION:The 50 50 drawdown split will benefit the Alabama Kidney Foundation \n\nAs always use the REVER app to plan your route to and from BILL-E's.\n\n\n\n\n\nMotorcycle not required to attend
X-ALT-DESC;FMTTYPE=text/html:<span style="color:#222222"><span style="font-family:arial\,sans-serif"><span style="font-size:10.0pt">The 50 50 drawdown split will benefit the Alabama Kidney Foundation&nbsp\;<br />\nAs always use the REVER app to plan your route to and from BILL-E&#39\;s.</span></span></span><br />\n<br />\n<br />\nMotorcycle not required to attend
LOCATION:BILL-E's 19992 AL HWY 181\, Fairhope\, AL 36559
UID:e.1304.36050
SEQUENCE:3
DTSTAMP:20260423T073348Z
URL:https://business.eschamber.com/events/details/bill-e-s-bacon-burgers-bikes-january-saturday-daytime-due-to-the-first-wednesday-being-new-years-day-36050
END:VEVENT

END:VCALENDAR
