BEGIN:VCALENDAR
VERSION:2.0
PRODID:-//ChamberMaster//Event Calendar 2.0//EN
METHOD:PUBLISH
X-PUBLISHED-TTL:P3D
REFRESH-INTERVAL:P3D
CALSCALE:GREGORIAN
BEGIN:VEVENT
DTSTART:20210724T140000Z
DTEND:20210724T210000Z
X-MICROSOFT-CDO-ALLDAYEVENT:FALSE
SUMMARY:BOB and MOE BBQ SHOW - Competitive BBQ Class at BILL-E's
DESCRIPTION:Amazing Event - Saturday\, July 24th at BILL-E's from 10 AM till 4 PM\n\n \n\nLet's pack out our amazing BBQ class.\n \n\nMay I count on you and some other amazing folks to come and have a blast?\n\nWe have 20 people so far. \n\n\n\nCost $350\n\nRuns from 10 am till 4 pm. Show up at 9 am. Saturday\, July 24th at BILL-E's (red building)\n\n*Tito's Bloody Mary Bar included with Revolution Bloody Mary Mix\n\n*very interactive\n\n*competition style cooking being taught\n\n*chicken \n\n*pork ribs\n\n*brisket\n\n*pulled pork\n\n*beef ribs\n*getting to hang out with Big Moe Cason and Bob Trudnack - Two of the greatest names in BBQ world wide.\n\n\n\nYou will eat like a rock star and learn to prepare competitive BBQ from the two best people on the planet.\n\n \n\nRegister\n\nhttps://www.thebobandmoebbqshow.com/book-online\n\n \n\nBob T. and Moe C.\n \n\n\n\nWilliam "Bill E." Stitt\n\ncell: 251-209-2129\n\nOwner & Head Bacon Maker\n\nBILL-E's Restaurant\n\nand\n\nBILL-E's SMALL BATCH BACON
X-ALT-DESC;FMTTYPE=text/html:<div>Amazing Event - Saturday\, July 24th at BILL-E&#39\;s from 10 AM till 4 PM</div>\n\n<div>&nbsp\;</div>\n\n<div>Let&#39\;s pack out our amazing BBQ class.</div>\n&nbsp\;\n\n<div>May I count on you and some other amazing folks to come and have a blast?<br />\nWe have 20 people so far.&nbsp\;<br />\n<br />\nCost $350<br />\nRuns from 10 am till 4 pm. Show up at 9 am. Saturday\, July 24th at BILL-E&rsquo\;s (red building)<br />\n*Tito&rsquo\;s Bloody Mary Bar included with Revolution Bloody Mary Mix<br />\n*very interactive<br />\n*competition style cooking being taught<br />\n*chicken&nbsp\;<br />\n*pork ribs<br />\n*brisket<br />\n*pulled pork<br />\n*beef ribs\n<div>*getting to hang out with Big Moe Cason and Bob Trudnack - Two of the greatest names in BBQ world wide.<br />\n<br />\nYou will eat like a rock star and learn to prepare competitive BBQ from the two best people on the planet.<br />\n&nbsp\;</div>\n\n<div>Register</div>\n\n<div><a href="https://www.thebobandmoebbqshow.com/book-online" style="color: rgb(17\, 85\, 204)\;" target="_blank">https://www.thebobandmoebbqshow.com/book-online</a></div>\n\n<div>&nbsp\;</div>\n\n<div>Bob T. and Moe C.\n<div>&nbsp\;\n<div>\n<div>\n<div>\n<div>William &quot\;Bill E.&quot\; Stitt</div>\n\n<div>cell: 251-209-2129</div>\n\n<div>Owner &amp\; Head Bacon Maker</div>\n\n<div>BILL-E&#39\;s Restaurant</div>\n\n<div>and</div>\n\n<div>BILL-E&#39\;s SMALL BATCH BACON</div>\n</div>\n</div>\n</div>\n</div>\n</div>\n</div>\n
LOCATION:BILL-E's 19992 AL HWY 181 FAIRHOPE\, AL 36532
UID:e.1304.22165
SEQUENCE:3
DTSTAMP:20260420T114641Z
URL:https://business.eschamber.com/events/details/bob-and-moe-bbq-show-competitive-bbq-class-at-bill-e-s-22165
END:VEVENT

END:VCALENDAR
