BEGIN:VCALENDAR
VERSION:2.0
PRODID:-//ChamberMaster//Event Calendar 2.0//EN
METHOD:PUBLISH
X-PUBLISHED-TTL:P3D
REFRESH-INTERVAL:P3D
CALSCALE:GREGORIAN
BEGIN:VEVENT
DTSTART:20201115T200000Z
DTEND:20201116T000000Z
X-MICROSOFT-CDO-ALLDAYEVENT:FALSE
SUMMARY:Bourbon by the Bay
DESCRIPTION:Raise your glass at the fourth annual Bourbon on the Bay\, where you can sample from over twenty-five premium bourbons and whiskeys. The event will also feature heavy hors d'oeuvres\, craft cocktails contest featuring local mixologists\, a selection of wine and local brews\, a unique silent auction and festive live music. VIP guests will have a Priority Access Space with special presentations from distillers\, gourmet paired food samplings and high end bourbon tastings. Hosted by Bourbon By The Bay\, Coastal 150 and Coastal Alabama Partnership
X-ALT-DESC;FMTTYPE=text/html:Raise your glass at the fourth annual Bourbon on the Bay\, where you can sample from over twenty-five premium bourbons and whiskeys. The event will also feature heavy hors d&#39\;oeuvres\, craft cocktails contest featuring local mixologists\, a selection of wine and local brews\, a unique silent auction and festive live music. VIP guests will have a Priority Access Space with special presentations from distillers\, gourmet paired food samplings and high end bourbon tastings. Hosted by Bourbon By The Bay\, Coastal 150 and Coastal Alabama Partnership
LOCATION:Cotton Warehouse Float Barn\, 916 Conti St.\, Mobile\, AL
UID:e.1304.14904
SEQUENCE:3
DTSTAMP:20260424T031659Z
URL:https://business.eschamber.com/events/details/bourbon-by-the-bay-14904
END:VEVENT

END:VCALENDAR
