BEGIN:VCALENDAR
VERSION:2.0
PRODID:-//ChamberMaster//Event Calendar 2.0//EN
METHOD:PUBLISH
X-PUBLISHED-TTL:P3D
REFRESH-INTERVAL:P3D
CALSCALE:GREGORIAN
BEGIN:VEVENT
DTSTART:20240817T003000Z
DTEND:20240817T023000Z
X-MICROSOFT-CDO-ALLDAYEVENT:FALSE
SUMMARY:Boys in the Band: An Alabama Tribute
DESCRIPTION:Boys in the Band takes center stage at OWA Theater to bring you the ultimate tribute to one of the greatest country music groups of all time   Alabama. Get ready to relive Alabama's greatest hits\, including "Tennessee River\," "Mountain Music\," "Song of the South\," and many more on August 16th. Each performance is a tribute to the iconic band's legacy\, bringing back memories for lifelong fans and creating new ones for the next generation. Mark your calendars because this is a show you're not going to want to miss. Doors open at 6pm\, so come early and enjoy drinks and refreshments before the show kicks off at 7:30pm.
X-ALT-DESC;FMTTYPE=text/html:Boys in the Band takes center stage at OWA Theater to bring you the ultimate tribute to one of the greatest country music groups of all time &mdash\; Alabama. Get ready to relive Alabama&rsquo\;s greatest hits\, including &quot\;Tennessee River\,&quot\; &quot\;Mountain Music\,&quot\; &quot\;Song of the South\,&quot\; and many more on August 16th. Each performance is a tribute to the iconic band&#39\;s legacy\, bringing back memories for lifelong fans and creating new ones for the next generation. Mark your calendars because this is a show you&rsquo\;re not going to want to miss. Doors open at 6pm\, so come early and enjoy drinks and refreshments before the show kicks off at 7:30pm.
LOCATION:OWA Theater
UID:e.1304.31408
SEQUENCE:3
DTSTAMP:20260419T145231Z
URL:https://business.eschamber.com/events/details/boys-in-the-band-an-alabama-tribute-31408
END:VEVENT

END:VCALENDAR
