BEGIN:VCALENDAR
VERSION:2.0
PRODID:-//ChamberMaster//Event Calendar 2.0//EN
METHOD:PUBLISH
X-PUBLISHED-TTL:P3D
REFRESH-INTERVAL:P3D
CALSCALE:GREGORIAN
BEGIN:VEVENT
DTSTART:20210701T220000Z
DTEND:20210702T000000Z
X-MICROSOFT-CDO-ALLDAYEVENT:FALSE
SUMMARY:Business After Hours & Artwork Reveal at US Sports Academy
DESCRIPTION:Business After Hours brings members together each month in a casual setting for networking over hors d'oeuvres and refreshments.\n\n\n\nJuly's Business After Hours is extra special because it also doubles as the Artwork Reveal Party for the Jubilee Festival of Arts! Be the first to see this year's festival poster artwork and meet the artist.\n\n\n\nBusiness After Hours\n\nat US Sports Academy\n\nOne Academy Drive\, Daphne\, AL\n\nThursday\, July 1\n\n5-7 PM
X-ALT-DESC;FMTTYPE=text/html:<p class="p1" color:="" raleway="" style="margin: 0px\; font-variant-numeric: normal\; font-variant-east-asian: normal\; font-stretch: normal\; font-size: 12px\; line-height: normal\; font-family: ">Business After Hours brings members together each month in a casual setting for networking over hors d&rsquo\;oeuvres and refreshments.<br />\n<br />\nJuly&#39\;s Business After Hours is extra special&nbsp\;because it also doubles as the Artwork Reveal Party for the Jubilee Festival of Arts! Be the first to see this year&#39\;s festival poster artwork and meet the artist.<br />\n<br />\nBusiness After Hours<br />\nat US Sports Academy<br />\nOne Academy Drive\, Daphne\, AL<br />\nThursday\, July 1<br />\n5-7 PM<br />\n&nbsp\;</p>\n
LOCATION:US Sports Academy One Academy Drive\, Daphne\, AL
UID:e.1304.20727
SEQUENCE:3
DTSTAMP:20260420T132541Z
URL:https://business.eschamber.com/events/details/business-after-hours-artwork-reveal-at-us-sports-academy-20727
END:VEVENT

END:VCALENDAR
