BEGIN:VCALENDAR
VERSION:2.0
PRODID:-//ChamberMaster//Event Calendar 2.0//EN
METHOD:PUBLISH
X-PUBLISHED-TTL:P3D
REFRESH-INTERVAL:P3D
CALSCALE:GREGORIAN
BEGIN:VEVENT
DTSTART:20210304T230000Z
DTEND:20210305T010000Z
X-MICROSOFT-CDO-ALLDAYEVENT:FALSE
SUMMARY:Business After Hours at Rock Creek Golf Club
DESCRIPTION:Join us for in-person networking at our March Business After Hours at Rock Creek Golf Club.\n\n \n\nMarch Business After Hours\n\nThursday\, March 4\, 2021\n\n5:00 - 7:00 PM\n\nRock Creek Golf Club\n\n140 Clubhouse Dr\n\nFairhope\, AL\n\nRSVP Required\n\n \n\nThis event is a FREE networking event for Eastern Shore Chamber of Commerce members.\n\nAll in-person Eastern Shore Chamber of Commerce events will follow state health guidelines concerning COVID-19\, including limited attendance\, social distancing and masks.
X-ALT-DESC;FMTTYPE=text/html:<div class="kvgmc6g5 cxmmr5t8 oygrvhab hcukyx3x c1et5uql" color:="" font-size:="" style="overflow-wrap: break-word\; margin: 0px\; font-family: system-ui\, -apple-system\, system-ui\, ">Join us for in-person networking at our March Business After Hours at Rock Creek Golf Club.<br />\n&nbsp\;</div>\n\n<div class="o9v6fnle cxmmr5t8 oygrvhab hcukyx3x c1et5uql" color:="" font-size:="" style="overflow-wrap: break-word\; margin: 0.5em 0px 0px\; font-family: system-ui\, -apple-system\, system-ui\, ">March Business After Hours<br />\nThursday\, March 4\, 2021<br />\n5:00 - 7:00 PM<br />\nRock Creek Golf Club<br />\n<span style="color: rgb(32\, 33\, 36)\; font-family: Roboto\, arial\, sans-serif\; font-size: 14px\;">140 Clubhouse Dr</span><br />\nFairhope\, AL</div>\n\n<div class="o9v6fnle cxmmr5t8 oygrvhab hcukyx3x c1et5uql" color:="" font-size:="" style="overflow-wrap: break-word\; margin: 0.5em 0px 0px\; font-family: system-ui\, -apple-system\, system-ui\, ">RSVP Required<br />\n&nbsp\;</div>\n\n<div class="o9v6fnle cxmmr5t8 oygrvhab hcukyx3x c1et5uql" color:="" font-size:="" style="overflow-wrap: break-word\; margin: 0.5em 0px 0px\; font-family: system-ui\, -apple-system\, system-ui\, ">This event is a FREE networking event for Eastern Shore Chamber of Commerce members.</div>\n\n<div class="o9v6fnle cxmmr5t8 oygrvhab hcukyx3x c1et5uql" color:="" font-size:="" style="overflow-wrap: break-word\; margin: 0.5em 0px 0px\; font-family: system-ui\, -apple-system\, system-ui\, ">All in-person Eastern Shore Chamber of Commerce events will follow state health guidelines concerning COVID-19\, including limited attendance\, social distancing and masks.</div>\n
LOCATION:Rock Creek Golf Club 140 Clubhouse Dr\, Fairhope\, AL 36532
UID:e.1304.19457
SEQUENCE:3
DTSTAMP:20260423T204835Z
URL:https://business.eschamber.com/events/details/business-after-hours-at-rock-creek-golf-club-19457
END:VEVENT

END:VCALENDAR
