BEGIN:VCALENDAR
VERSION:2.0
PRODID:-//ChamberMaster//Event Calendar 2.0//EN
METHOD:PUBLISH
X-PUBLISHED-TTL:P3D
REFRESH-INTERVAL:P3D
CALSCALE:GREGORIAN
BEGIN:VEVENT
DTSTART:20240801T220000Z
DTEND:20240802T000000Z
X-MICROSOFT-CDO-ALLDAYEVENT:FALSE
SUMMARY:Business After Hours August 2024 - River Bank & Trust
DESCRIPTION:Business After Hours at River Bank & Trust
X-ALT-DESC;FMTTYPE=text/html:Business After Hours at River Bank &amp\; Trust
LOCATION:River Bank & Trust 1301 US 98 Daphne\, AL 36526
UID:e.1304.28557
SEQUENCE:3
DTSTAMP:20260419T161916Z
URL:https://business.eschamber.com/events/details/business-after-hours-august-2024-river-bank-trust-28557
END:VEVENT

END:VCALENDAR
