BEGIN:VCALENDAR
VERSION:2.0
PRODID:-//ChamberMaster//Event Calendar 2.0//EN
METHOD:PUBLISH
X-PUBLISHED-TTL:P3D
REFRESH-INTERVAL:P3D
CALSCALE:GREGORIAN
BEGIN:VEVENT
DTSTART:20240711T220000Z
DTEND:20240712T000000Z
X-MICROSOFT-CDO-ALLDAYEVENT:FALSE
SUMMARY:Business After Hours July 2024 - United States Sports Academy
DESCRIPTION:Business After Hours at United States Sports Academy
X-ALT-DESC;FMTTYPE=text/html:Business After Hours at United States Sports Academy
LOCATION:United States Sports Academy One Academy Drive Daphne\, AL 36526
UID:e.1304.28556
SEQUENCE:3
DTSTAMP:20260419T194016Z
URL:https://business.eschamber.com/events/details/business-after-hours-july-2024-united-states-sports-academy-28556
END:VEVENT

END:VCALENDAR
