BEGIN:VCALENDAR
VERSION:2.0
PRODID:-//ChamberMaster//Event Calendar 2.0//EN
METHOD:PUBLISH
X-PUBLISHED-TTL:P3D
REFRESH-INTERVAL:P3D
CALSCALE:GREGORIAN
BEGIN:VEVENT
DTSTART:20230907T220000Z
DTEND:20230908T000000Z
X-MICROSOFT-CDO-ALLDAYEVENT:FALSE
SUMMARY:Business After Hours Sept. 2023 - The Baller Dream Foundation
DESCRIPTION:Business After Hours at The Baller Dream Foundation
X-ALT-DESC;FMTTYPE=text/html:Business After Hours at The Baller Dream Foundation
LOCATION:The Baller Dream Foundation The Balcony 300 Fairhope Ave\, Fairhope\, AL
UID:e.1304.26583
SEQUENCE:3
DTSTAMP:20260420T002146Z
URL:https://business.eschamber.com/events/details/business-after-hours-sept-2023-the-baller-dream-foundation-26583
END:VEVENT

END:VCALENDAR
