BEGIN:VCALENDAR
VERSION:2.0
PRODID:-//ChamberMaster//Event Calendar 2.0//EN
METHOD:PUBLISH
X-PUBLISHED-TTL:P3D
REFRESH-INTERVAL:P3D
CALSCALE:GREGORIAN
BEGIN:VEVENT
DTSTART:20201205T160000Z
DTEND:20201205T210000Z
X-MICROSOFT-CDO-ALLDAYEVENT:FALSE
SUMMARY:CANCELED - Swift-Coles Historic Home Christmas Open House
DESCRIPTION:CANCELED - Come join us for our Christmas Open House! There will be live music\, photos with Santa\, arts and crafts vendors and appetizers.
X-ALT-DESC;FMTTYPE=text/html:CANCELED - Come join us for our Christmas Open House! There will be live music\, photos with Santa\, arts and crafts vendors and appetizers.
LOCATION:Swift-Coles Historic Home\, 17424 Swift Coles Lane\, Bon Secour\, AL
UID:e.1304.14906
SEQUENCE:3
DTSTAMP:20260424T032047Z
URL:https://business.eschamber.com/events/details/canceled-swift-coles-historic-home-christmas-open-house-14906
END:VEVENT

END:VCALENDAR
