BEGIN:VCALENDAR
VERSION:2.0
PRODID:-//ChamberMaster//Event Calendar 2.0//EN
METHOD:PUBLISH
X-PUBLISHED-TTL:P3D
REFRESH-INTERVAL:P3D
CALSCALE:GREGORIAN
BEGIN:VEVENT
DTSTART:20211211T230000Z
DTEND:20211212T000000Z
X-MICROSOFT-CDO-ALLDAYEVENT:FALSE
SUMMARY:CARE's Movie on The Bluff: Elf
DESCRIPTION:CARE presents Movie on The Bluff! Join us for our December movie featuring Elf! Catch a free movie after you enjoy the sunset on Mobile Bay! Hot cocoa\, cookies and popcorn will be provided. Donations not required but appreciated. Any amounts received will go to benefit Fairhope Schools. We will also be collecting toys for Toys for Tots. Bring a chair or blanket so you can enjoy the movie!
X-ALT-DESC;FMTTYPE=text/html:CARE presents Movie on The Bluff! Join us for our December movie featuring Elf! Catch a free movie after you enjoy the sunset on Mobile Bay! Hot cocoa\, cookies and popcorn will be provided. Donations not required but appreciated. Any amounts received will go to benefit Fairhope Schools. We will also be collecting toys for Toys for Tots. Bring a chair or blanket so you can enjoy the movie!
LOCATION:Henry George Park\, Fairhope
UID:e.1304.22870
SEQUENCE:3
DTSTAMP:20260419T115508Z
URL:https://business.eschamber.com/events/details/care-s-movie-on-the-bluff-elf-22870
END:VEVENT

END:VCALENDAR
