BEGIN:VCALENDAR
VERSION:2.0
PRODID:-//ChamberMaster//Event Calendar 2.0//EN
METHOD:PUBLISH
X-PUBLISHED-TTL:P3D
REFRESH-INTERVAL:P3D
CALSCALE:GREGORIAN
BEGIN:VEVENT
DTSTART:20201101T210000Z
DTEND:20201101T220000Z
X-MICROSOFT-CDO-ALLDAYEVENT:FALSE
SUMMARY:Chamber Music Concert: An Afternoon in Paris
DESCRIPTION:The St. Francis Music Society is pleased to present the second concert of their 2020-21 concert series: An Afternoon in Paris\, featuring Rebekah Atkinson\, harp\; Stephanie Riegle\, flute\; Richard Jernigan\, clarinet\; Matthew Atkinson\, violin\; Grace Kim\, violin\; Nicole Harabaru\, viola\; Andrian Harabaru\, cello\; and Benjamin Rollings\, piano Travel back in time and visit Paris with this concert of French music composed in 1905 and 1879. Experience the youthful freshness of Maurice Ravel's colorful Introduction and Allegro for harp\, flute\, clarinet and string quartet contrasted with C sar Franck's daring and passionate Piano Quintet. Principal members of the Mobile Symphony Orchestra and Pensacola Symphony Orchestra join musicians from the previous concert in what is sure to be an unforgettable afternoon. Program RAVEL - Introduction and Allegro FRANCK - Piano Quintet in F minor
X-ALT-DESC;FMTTYPE=text/html:The St. Francis Music Society is pleased to present the second concert of their 2020-21 concert series: An Afternoon in Paris\, featuring Rebekah Atkinson\, harp\; Stephanie Riegle\, flute\; Richard Jernigan\, clarinet\; Matthew Atkinson\, violin\; Grace Kim\, violin\; Nicole Harabaru\, viola\; Andrian Harabaru\, cello\; and Benjamin Rollings\, piano Travel back in time and visit Paris with this concert of French music composed in 1905 and 1879. Experience the youthful freshness of Maurice Ravel&rsquo\;s colorful Introduction and Allegro for harp\, flute\, clarinet and string quartet contrasted with C&eacute\;sar Franck&rsquo\;s daring and passionate Piano Quintet. Principal members of the Mobile Symphony Orchestra and Pensacola Symphony Orchestra join musicians from the previous concert in what is sure to be an unforgettable afternoon. Program RAVEL - Introduction and Allegro FRANCK - Piano Quintet in F minor
LOCATION:St. Francis at the Point Anglican Church 17280 Scenic Highway 98 Fairhope\, Alabama 36532
UID:e.1304.14315
SEQUENCE:3
DTSTAMP:20260424T032205Z
URL:https://business.eschamber.com/events/details/chamber-music-concert-an-afternoon-in-paris-14315
END:VEVENT

END:VCALENDAR
