BEGIN:VCALENDAR
VERSION:2.0
PRODID:-//ChamberMaster//Event Calendar 2.0//EN
METHOD:PUBLISH
X-PUBLISHED-TTL:P3D
REFRESH-INTERVAL:P3D
CALSCALE:GREGORIAN
BEGIN:VEVENT
DTSTART;VALUE=DATE:20211217
DTEND;VALUE=DATE:20211218
TRANSP:TRANSPARENT
X-MICROSOFT-CDO-ALLDAYEVENT:TRUE
SUMMARY:Christmas at OWA
DESCRIPTION:It's a Christmas miracle! Santa and his sleigh have landed at OWA\, and he's brought the North Pole with him! Dance along with our twinkling Christmas tree nightly\, meet Mrs. Claus and Santa's elves\, grab a photo with the jolly man himself and make your plans for a delicious pancake brunch! Plus\, don't miss live performances from the Tinsel Tones! Bring those smiles and your wish list too and get ready to celebrate the magic of the Christmas season at OWA. For additional details and pricing head over to visitowa.com/christmas
X-ALT-DESC;FMTTYPE=text/html:<span style="color:rgb(112\, 112\, 112)\; font-family:helvetica\,sans-serif\; font-size:16px">It&rsquo\;s a Christmas miracle! Santa and his sleigh have landed at OWA\, and he&rsquo\;s brought the North Pole with him! Dance along with our twinkling Christmas tree nightly\, meet Mrs. Claus and Santa&rsquo\;s elves\, grab a photo with the jolly man himself and make your plans for a delicious pancake brunch! Plus\, don&rsquo\;t miss live performances from the Tinsel Tones! Bring those smiles and your wish list too and get ready to celebrate the magic of the Christmas season at OWA. For additional details and pricing head over to <a href="http://www.visitowa.com/christmas">visitowa.com/christmas</a></span>
LOCATION:OWA 1501 S OWA Blvd Foley\, AL 36535
UID:e.1304.22824
SEQUENCE:3
DTSTAMP:20260419T120914Z
URL:https://business.eschamber.com/events/details/christmas-at-owa-12-17-2021-22824
END:VEVENT

END:VCALENDAR
