BEGIN:VCALENDAR
VERSION:2.0
PRODID:-//ChamberMaster//Event Calendar 2.0//EN
METHOD:PUBLISH
X-PUBLISHED-TTL:P3D
REFRESH-INTERVAL:P3D
CALSCALE:GREGORIAN
BEGIN:VEVENT
DTSTART:20201218T000000Z
DTEND:20201218T013000Z
X-MICROSOFT-CDO-ALLDAYEVENT:FALSE
SUMMARY:Christmas at the Pavilion with The Baldwin Pops
DESCRIPTION:We are excited to announce that The Baldwin Pops is having their Christmas event at the Eastern Shore Centre Pavilion on December 17\, 2020 at 6:00pm. To maintain social distancing they will be performing a special kind of Christmas concert this year. There will be an hour and a half of multiple small group concerts. We will have performances by the Flute Choir\, Brass Choir\, French horn Quartet\, and finish off with the Jazz Quartet. The concert is free for all\, so bring your family and your masks\, sit around the Christmas tree\, socially distanced\, and enjoy an amazing night with The Baldwin Pops.
X-ALT-DESC;FMTTYPE=text/html:We are excited to announce that The Baldwin Pops is having their Christmas event at the Eastern Shore Centre Pavilion on December 17\, 2020 at 6:00pm. To maintain social distancing they will be performing a special kind of Christmas concert this year. There will be an hour and a half of multiple small group concerts. We will have performances by the Flute Choir\, Brass Choir\, French horn Quartet\, and finish off with the Jazz Quartet. The concert is free for all\, so bring your family and your masks\, sit around the Christmas tree\, socially distanced\, and enjoy an amazing night with The Baldwin Pops.
LOCATION:ESC Pavilion around the Christmas Tree
UID:e.1304.14931
SEQUENCE:3
DTSTAMP:20260424T031220Z
URL:https://business.eschamber.com/events/details/christmas-at-the-pavilion-with-the-baldwin-pops-14931
END:VEVENT

END:VCALENDAR
