BEGIN:VCALENDAR
VERSION:2.0
PRODID:-//ChamberMaster//Event Calendar 2.0//EN
METHOD:PUBLISH
X-PUBLISHED-TTL:P3D
REFRESH-INTERVAL:P3D
CALSCALE:GREGORIAN
BEGIN:VEVENT
DTSTART:20201121T003000Z
DTEND:20201121T030000Z
X-MICROSOFT-CDO-ALLDAYEVENT:FALSE
SUMMARY:Christmas Masquerade Gala at Bellingrath Gardens and Home
DESCRIPTION:We invite you to celebrate the 25th Anniversary of Magic Christmas in Lights at the Christmas Masquerade Gala on Friday\, November 20\, from 6:30 to 9 p.m. This elegant evening is a preview of the 2020 season of Magic Christmas Lights\, featuring a brand-new 25th anniversary scene.\n\nSince 1995\, Bellingrath Gardens and Home's very own staff has designed and created Christmas displays throughout the gardens. Guests stroll through a dazzling light display that features more than 1\,100 set pieces\, 3 million lights\, and 15 scenes throughout the 65-acre garden estate.  We are excited to announce that the staff has created a brand-new scene in honor of the 25th anniversary celebration\, and we will reveal the new scene at the Christmas Masquerade Gala. Take part in this special holiday tradition and be among the first to view the newly "unmasked" scene!
X-ALT-DESC;FMTTYPE=text/html:<p>We invite you to celebrate the 25th Anniversary of Magic Christmas in Lights at the Christmas Masquerade Gala on Friday\, November 20\, from 6:30 to 9 p.m. This elegant evening is a preview of the 2020 season of Magic Christmas Lights\, featuring a brand-new 25th anniversary scene.</p>\n\n<p>Since 1995\, Bellingrath Gardens and Home&rsquo\;s very own staff has designed and created Christmas displays throughout the gardens. Guests stroll through a dazzling light display that features more than 1\,100 set pieces\, 3 million lights\, and 15 scenes throughout the 65-acre garden estate.&nbsp\; We are excited to announce that the staff has created a brand-new scene in honor of the 25th anniversary celebration\, and we will reveal the new scene at the Christmas Masquerade Gala. Take part in this special holiday tradition and be among the first to view the newly &ldquo\;unmasked&rdquo\; scene!</p>\n
LOCATION:Bellingrath Gardens and Home 12401 Bellingrath Gardens Road Theodore\, AL 36582
UID:e.1304.14361
SEQUENCE:3
DTSTAMP:20260424T044329Z
URL:https://business.eschamber.com/events/details/christmas-masquerade-gala-at-bellingrath-gardens-and-home-14361
END:VEVENT

END:VCALENDAR
