BEGIN:VCALENDAR
VERSION:2.0
PRODID:-//ChamberMaster//Event Calendar 2.0//EN
METHOD:PUBLISH
X-PUBLISHED-TTL:P3D
REFRESH-INTERVAL:P3D
CALSCALE:GREGORIAN
BEGIN:VEVENT
DTSTART:20211212T220000Z
DTEND:20211212T230000Z
X-MICROSOFT-CDO-ALLDAYEVENT:FALSE
SUMMARY:Christmas with The Baldwin Pops
DESCRIPTION:The Baldwin Pops are back\, and we cannot wait! Come enjoy a Christmas concert with these amazing local musicians. This is a free concert\, but donations/tips are greatly appreciated.
X-ALT-DESC;FMTTYPE=text/html:The Baldwin Pops are back\, and we cannot wait! Come enjoy a Christmas concert with these amazing local musicians. This is a free concert\, but donations/tips are greatly appreciated.
LOCATION:30500 Hwy 181\, Spanish Fort\, AL Eastern Shore Centre\, Courtyard at the Christmas Tree
UID:e.1304.22890
SEQUENCE:3
DTSTAMP:20260421T101557Z
URL:https://business.eschamber.com/events/details/christmas-with-the-baldwin-pops-22890
END:VEVENT

END:VCALENDAR
