BEGIN:VCALENDAR
VERSION:2.0
PRODID:-//ChamberMaster//Event Calendar 2.0//EN
METHOD:PUBLISH
X-PUBLISHED-TTL:P3D
REFRESH-INTERVAL:P3D
CALSCALE:GREGORIAN
BEGIN:VEVENT
DTSTART:20230923T180000Z
DTEND:20230923T193000Z
X-MICROSOFT-CDO-ALLDAYEVENT:FALSE
SUMMARY:Civil War on the Eastern Shore Cruise
DESCRIPTION:Join us as we take a journey along the waterways of the lower Delta to discover the sites on land and water where the Civil War Campaign for Mobile took place.
X-ALT-DESC;FMTTYPE=text/html:Join us as we take a journey along the waterways of the lower Delta to discover the sites on land and water where the Civil War Campaign for Mobile took place.
LOCATION:Bartram Dock at Five Rivers Delta Resource Center
UID:e.1304.27740
SEQUENCE:3
DTSTAMP:20260420T020356Z
URL:https://business.eschamber.com/events/details/civil-war-on-the-eastern-shore-cruise-09-23-2023-27740
END:VEVENT

END:VCALENDAR
