BEGIN:VCALENDAR
VERSION:2.0
PRODID:-//ChamberMaster//Event Calendar 2.0//EN
METHOD:PUBLISH
X-PUBLISHED-TTL:P3D
REFRESH-INTERVAL:P3D
CALSCALE:GREGORIAN
BEGIN:VEVENT
DTSTART:20201029T000000Z
DTEND:20201029T030000Z
X-MICROSOFT-CDO-ALLDAYEVENT:FALSE
SUMMARY:Classic Fright Movie Nights
DESCRIPTION:Classic Fright Night movies are here at the OWA Theater. Catch your favorite cult classic films Wednesdays\, October 14   November 4. Tickets are $10++ per person\, per film. Group rates for parties of 10 or more are available. Use code: FrightNight to receive 4 tickets  for only $30. That's a $10 off savings.  \n\nThis discount is only available for a single movie selection through online purchases. \n\nBUY TICKETS TODAY\n\n \n\n  October 21   A Nightmare on Elm Street (1984)\n\n  October 28   Winchester (2018)\n\n  November 4   The Texas Chainsaw Massacre (2003)\n\n205 N. OWA Blvd. Foley\, Alabama 36535
X-ALT-DESC;FMTTYPE=text/html:<p>Classic Fright Night movies are here at the OWA Theater. Catch your favorite cult classic films Wednesdays\, October 14 &ndash\; November 4. Tickets are $10++ per person\, per film. Group rates for parties of 10 or more are available.&nbsp\;Use code: FrightNight to receive 4 tickets&nbsp\; for only $30. That&rsquo\;s a $10 off savings.&nbsp\;&nbsp\;<br />\n<em>This discount is only available for a single movie selection through online purchases.&nbsp\;</em></p>\n\n<p style="text-align:center"><a class="btn" href="https://visitowa.com/explore/tickets/" style="color: rgb(255\, 255\, 255) !important\; box-sizing: border-box\; background-color: rgb(0\, 178\, 196)\; text-decoration-line: none\; line-height: inherit\; cursor: pointer\; display: inline-flex\; position: relative\; font-family: AvenirNextLTPro-Bold\; font-size: 0.9em\; border-radius: 50px\; text-transform: uppercase\; letter-spacing: 0.08em\; padding: 8px 19px 5px 20px\; transition-property: padding-right\; transition-duration: 250ms\; -webkit-box-align: center\; align-items: center\; -webkit-box-pack: center\; justify-content: center\;">BUY TICKETS TODAY</a></p>\n\n<p>&nbsp\;</p>\n\n<p>&bull\;&nbsp\;<strong>October 21 &ndash\;&nbsp\;<em>A Nightmare on Elm Street</em>&nbsp\;(1984)</strong></p>\n\n<p><strong><strong>&bull\; October 28 &ndash\;&nbsp\;<em>Winchester</em>&nbsp\;(2018)</strong></strong></p>\n\n<p><strong><strong><strong>&bull\; November 4 &ndash\;&nbsp\;<em>The Texas Chainsaw Massacre</em>&nbsp\;(2003)</strong></strong></strong></p>\n\n<p>205 N. OWA Blvd. Foley\, Alabama 36535</p>\n
LOCATION:OWA Theater 1501 S. OWA Blvd. Foley\,AL 36535
UID:e.1304.14876
SEQUENCE:3
DTSTAMP:20260424T054715Z
URL:https://business.eschamber.com/events/details/classic-fright-movie-nights-10-28-2020-14876
END:VEVENT

END:VCALENDAR
