BEGIN:VCALENDAR
VERSION:2.0
PRODID:-//ChamberMaster//Event Calendar 2.0//EN
METHOD:PUBLISH
X-PUBLISHED-TTL:P3D
REFRESH-INTERVAL:P3D
CALSCALE:GREGORIAN
BEGIN:VEVENT
DTSTART:20201008T160000Z
DTEND:20201008T221500Z
X-MICROSOFT-CDO-ALLDAYEVENT:FALSE
SUMMARY:Clay Shoot for Cancer
DESCRIPTION:Cancer Care at Thomas Hospital has earned national accreditation from the Commission on Cancer. Our goal is to make sure you have the most technologically advanced cancer care. Proceeds from the Clay Shoot for Cancer help us reach our goal!
X-ALT-DESC;FMTTYPE=text/html:Cancer Care at Thomas Hospital has earned national accreditation from the Commission on Cancer. Our goal is to make sure you have the most technologically advanced cancer care. Proceeds from the Clay Shoot for Cancer help us reach our goal!
LOCATION:Bushy Creek Clays 22505 Will Vaughn Road Perdido\, AL 36562
UID:e.1304.14218
SEQUENCE:3
DTSTAMP:20260424T043710Z
URL:https://business.eschamber.com/events/details/clay-shoot-for-cancer-14218
END:VEVENT

END:VCALENDAR
