BEGIN:VCALENDAR
VERSION:2.0
PRODID:-//ChamberMaster//Event Calendar 2.0//EN
METHOD:PUBLISH
X-PUBLISHED-TTL:P3D
REFRESH-INTERVAL:P3D
CALSCALE:GREGORIAN
BEGIN:VEVENT
DTSTART:20201007T130000Z
DTEND:20201010T220000Z
X-MICROSOFT-CDO-ALLDAYEVENT:FALSE
SUMMARY:Coastal Birdfest 2020
DESCRIPTION:
X-ALT-DESC;FMTTYPE=text/html:
LOCATION:Five Rivers Resource Center 30945 Five Rivers Blvd. Spanish Fort\, AL 36527 United States
UID:e.1304.14060
SEQUENCE:3
DTSTAMP:20260424T043938Z
URL:https://business.eschamber.com/events/details/coastal-birdfest-2020-14060
END:VEVENT

END:VCALENDAR
