BEGIN:VCALENDAR
VERSION:2.0
PRODID:-//ChamberMaster//Event Calendar 2.0//EN
METHOD:PUBLISH
X-PUBLISHED-TTL:P3D
REFRESH-INTERVAL:P3D
CALSCALE:GREGORIAN
BEGIN:VEVENT
DTSTART:20230916T130000Z
DTEND:20230916T170000Z
X-MICROSOFT-CDO-ALLDAYEVENT:FALSE
SUMMARY:Coastal Cleanup 2023
DESCRIPTION:You or your organization can volunteer to clean Alabama's coastal waterways and beaches on Saturday\, September 16\, 2023 from 8am   12pm. Take part in the state's largest annual volunteer event as you clean your neighborhoods\, local parks\, streets\, and storm drains too. Trash travels through storm drains\, streams\, and rivers to become bay and Gulf pollution. Picking up litter benefits you\, your community and the Gulf. Over 108\,000 volunteers have assisted in this event since Alabama joined the International Coastal Cleanup in 1987. We are grateful to the many helping hands and hearts who have pitched in to benefit our priceless natural resources.
X-ALT-DESC;FMTTYPE=text/html:You or your organization can volunteer to clean Alabama&rsquo\;s coastal waterways and beaches on Saturday\, September 16\, 2023 from 8am &ndash\; 12pm. Take part in the state&rsquo\;s largest annual volunteer event as you clean your neighborhoods\, local parks\, streets\, and storm drains too. Trash travels through storm drains\, streams\, and rivers to become bay and Gulf pollution. Picking up litter benefits you\, your community and the Gulf. Over 108\,000 volunteers have assisted in this event since Alabama joined the International Coastal Cleanup in 1987. We are grateful to the many helping hands and hearts who have pitched in to benefit our priceless natural resources.
LOCATION:Fairhope Municipal Pier\, Fairhope\, AL and May Day Pier\, Daphne\, AL
UID:e.1304.27989
SEQUENCE:3
DTSTAMP:20260420T015324Z
URL:https://business.eschamber.com/events/details/coastal-cleanup-2023-27989
END:VEVENT

END:VCALENDAR
