BEGIN:VCALENDAR
VERSION:2.0
PRODID:-//ChamberMaster//Event Calendar 2.0//EN
METHOD:PUBLISH
X-PUBLISHED-TTL:P3D
REFRESH-INTERVAL:P3D
CALSCALE:GREGORIAN
BEGIN:VEVENT
DTSTART:20220920T140000Z
DTEND:20220920T150000Z
X-MICROSOFT-CDO-ALLDAYEVENT:FALSE
SUMMARY:Coffee with the Mayor
DESCRIPTION:Mark your calendars and join us for Coffee with the Mayor! This is an opportunity for Mayor Sullivan to share updates and for the community to ask her any questions they may have.
X-ALT-DESC;FMTTYPE=text/html:Mark your calendars and join us for Coffee with the Mayor! This is an opportunity for Mayor Sullivan to share updates and for the community to ask her any questions they may have.
LOCATION:Fairhope Recreation Center\, 803 N. Greeno Road\, Fairhope\, AL 36532
UID:e.1304.25866
SEQUENCE:3
DTSTAMP:20260423T191340Z
URL:https://business.eschamber.com/events/details/coffee-with-the-mayor-25866
END:VEVENT

END:VCALENDAR
