BEGIN:VCALENDAR
VERSION:2.0
PRODID:-//ChamberMaster//Event Calendar 2.0//EN
METHOD:PUBLISH
X-PUBLISHED-TTL:P3D
REFRESH-INTERVAL:P3D
CALSCALE:GREGORIAN
BEGIN:VEVENT
DTSTART:20211202T160000Z
DTEND:20211202T170000Z
X-MICROSOFT-CDO-ALLDAYEVENT:FALSE
SUMMARY:Community-Based Comprehensive Land Use Plan meeting
DESCRIPTION:Join us for neighborhood meetings so your voice can be heard!
X-ALT-DESC;FMTTYPE=text/html:Join us for neighborhood meetings so your voice can be heard!
LOCATION:Homestead Village\, 924 Plantation Blvd.\, Fairhope\, AL
UID:e.1304.22714
SEQUENCE:3
DTSTAMP:20260421T100857Z
URL:https://business.eschamber.com/events/details/community-based-comprehensive-land-use-plan-meeting-12-02-2021-22714
END:VEVENT

END:VCALENDAR
