BEGIN:VCALENDAR
VERSION:2.0
PRODID:-//ChamberMaster//Event Calendar 2.0//EN
METHOD:PUBLISH
X-PUBLISHED-TTL:P3D
REFRESH-INTERVAL:P3D
CALSCALE:GREGORIAN
BEGIN:VEVENT
DTSTART:20230819T210000Z
DTEND:20230820T010000Z
X-MICROSOFT-CDO-ALLDAYEVENT:FALSE
SUMMARY:Community Safety Day
DESCRIPTION:Come on out to Downtown OWA for Community Safety Day\, August 19 from 4-8PM. During this free event\, guests will be able to learn from public safety officers\, first responders\, and many more through multiple interactive demonstrations and crafts.\n\nHead on over to meet representatives from The Army National Guard\, Baldwin EMC\, Foley Fire Department\, Alabama Department of Health\, MedStar\, and more!\n\nIn addition to safety education\, Community Safety Day at OWA Parks & Resort is a celebration of community unity. Local organizations are present to show their commitment to providing a secure and welcoming environment across Baldwin County. Come out and thank the ones who have committed to safety & make the pledge yourself.\n\n \n\nActivities & Events:\n\n  Car accident scene with powerline by Baldwin EMC\n\n  Police vehicles & kid's handout activities\n\n  Firefighter hat coloring & bounce house at Island & Native Treasures alcove\n\n- DJ Music at OWA Island\n\n-and more!\n\n \n\nFor more information\, *insert link*
X-ALT-DESC;FMTTYPE=text/html:Come on out to Downtown OWA for Community Safety Day\, August 19 from 4-8PM. During this free event\, guests will be able to learn from public safety officers\, first responders\, and many more through multiple interactive demonstrations and crafts.<br />\nHead on over to meet representatives from The Army National Guard\, Baldwin EMC\, Foley Fire Department\, Alabama Department of Health\, MedStar\, and more!<br />\nIn addition to safety education\, Community Safety Day at OWA Parks &amp\; Resort is a celebration of community unity. Local organizations are present to show their commitment to providing a secure and welcoming environment across Baldwin County. Come out and thank the ones who have committed to safety &amp\; make the pledge yourself.<br />\n&nbsp\;<br />\nActivities &amp\; Events:<br />\n&ndash\; Car accident scene with powerline by Baldwin EMC<br />\n&ndash\; Police vehicles &amp\; kid&rsquo\;s handout activities<br />\n&ndash\; Firefighter hat coloring &amp\; bounce house at Island &amp\; Native Treasures alcove<br />\n- DJ Music at OWA Island<br />\n-and more!<br />\n&nbsp\;<br />\nFor more information\, *insert link*<br />\n&nbsp\;
LOCATION:OWA
UID:e.1304.27735
SEQUENCE:3
DTSTAMP:20260420T035205Z
URL:https://business.eschamber.com/events/details/community-safety-day-08-19-2023-27735
END:VEVENT

END:VCALENDAR
