BEGIN:VCALENDAR
VERSION:2.0
PRODID:-//ChamberMaster//Event Calendar 2.0//EN
METHOD:PUBLISH
X-PUBLISHED-TTL:P3D
REFRESH-INTERVAL:P3D
CALSCALE:GREGORIAN
BEGIN:VEVENT
DTSTART:20200822T210000Z
DTEND:20200822T230000Z
X-MICROSOFT-CDO-ALLDAYEVENT:FALSE
SUMMARY:3rd Annual Community Safety Day
DESCRIPTION:Head to Downtown OWA for Community Safety Day on Saturday\, August 22 starting at 4pm! During this free event\, guests will enjoy interactive demonstrations from first responders\, public safety officers\, and local non-profit groups that support the betterment of our South Baldwin community. Plus\, it's a great way for you to help us celebrate those who work so hard to help keep our community safe!\n\nBring the family for real-life\, firsthand experience with the local non-profits and brave professionals who passionately serve our community in coastal Alabama. Community Safety Day is a free event that will run from 4-6pm. Live demonstrations and interactive displays will be in the streets of (admission free) Downtown OWA on Saturday\, August 22.\n\nAdditional Community Safety Day activities include:\n\n  Soccer Darts*\n\n  Inflatable Rock Slide*\n\n  Axe Throwing*\n\n  Trackless Train*\n\n*Donations are encouraged to enjoy these fun activities\, and any funds will be split among the non-profits you meet onsite supporting this great event. And more!\n\nAnd that's not all that's happening in Downtown OWA that evening. Stay for dinner and dessert. Take your cocktail to go and enjoy a walk around the lake. There's even a firework show that evening at 8:45pm!\nFind more info here: https://visitowa.com/safetyday/
X-ALT-DESC;FMTTYPE=text/html:<div style="margin-left:0px\; margin-right:0px\; text-align:left">\n<p style="margin-left:0px\; margin-right:0px\; text-align:left">Head to <a href="https://visitowa.com/explore/downtown-owa/">Downtown OWA</a> for Community Safety Day on Saturday\, August 22 starting at 4pm! During this free event\, guests will enjoy interactive demonstrations from first responders\, public safety officers\, and local non-profit groups that support the betterment of our South Baldwin community. Plus\, it&rsquo\;s a great way for you to help us celebrate those who work so hard to help keep our community safe!<br />\nBring the family for real-life\, firsthand experience with the local non-profits and brave professionals who passionately serve our community in coastal Alabama. Community Safety Day is a free event that will run from 4-6pm. Live demonstrations and interactive displays will be in the streets of (admission free) Downtown OWA on Saturday\, August 22.<br />\nAdditional Community Safety Day activities include:<br />\n&middot\; Soccer Darts*<br />\n&middot\; Inflatable Rock Slide*<br />\n&middot\; Axe Throwing*<br />\n&middot\; Trackless Train*<br />\n*Donations are encouraged to enjoy these fun activities\, and any funds will be split among the non-profits you meet onsite supporting this great event. And more!<br />\nAnd that&rsquo\;s not all that&rsquo\;s happening in Downtown OWA that evening. Stay for dinner and dessert. Take your cocktail to go and enjoy a walk around the lake. There&rsquo\;s even a <a href="https://visitowa.com/explore/events/csdfireworks/" rel="noopener" style="background-color: transparent\; box-sizing: inherit\; color: rgb(0\, 178\, 196)\; cursor: pointer\; line-height: inherit\; text-decoration: none\;" target="_blank">firework show</a> that evening at 8:45pm!</p>\nFind more info here: <a class="oajrlxb2 g5ia77u1 qu0x051f esr5mh6w e9989ue4 r7d6kgcz rq0escxv nhd2j8a9 nc684nl6 p7hjln8o kvgmc6g5 cxmmr5t8 oygrvhab hcukyx3x jb3vyjys rz4wbd8a qt6c0cv9 a8nywdso i1ao9s8h esuyzwwr f1sip0of lzcic4wl py34i1dx gpro0wi8" href="https://l.facebook.com/l.php?u=https%3A%2F%2Fvisitowa.com%2Fsafetyday%2F%3Ffbclid%3DIwAR2HdTP48prsshPFi-ktCbWpDuVbiHvTunQKwIhfPJB4RRjqmj3QyQTHrDE&amp\;h=AT1N48j0mdBO94ig5qu_X3RDlJx7NgDvvDyR5dHTU4Jj8z_S3h_XlCcnabIXL8AcGc2NFBL3mOhIaI1oL2QAC98c6gp5iJBUb6J8WAOxGJmRmaKQt56wIEygi3fjUZF6CepM" rel="nofollow" style="background-color: transparent\; border-bottom-color: currentColor\; border-bottom-style: none\; border-bottom-width: 0px\; border-left-color: currentColor\; border-left-style: none\; border-left-width: 0px\; border-right-color: currentColor\; border-right-style: none\; border-right-width: 0px\; border-top-color: currentColor\; border-top-style: none\; border-top-width: 0px\; box-sizing: border-box\; color: var(--blue-link)\; cursor: pointer\; display: inline\; font-family: inherit\; list-style-image: none\; list-style-position: outside\; list-style-type: none\; margin-bottom: 0px\; margin-left: 0px\; margin-right: 0px\; margin-top: 0px\; outline-color: invert\; outline-style: none\; outline-width: medium\; padding-bottom: 0px\; padding-left: 0px\; padding-right: 0px\; padding-top: 0px\; text-align: inherit\; text-decoration: none\; touch-action: manipulation\; -webkit-tap-highlight-color: transparent\;" tabindex="0" target="_blank">https://visitowa.com/safetyday/</a>\n\n<div style="margin-left:0px\; margin-right:0px\; text-align:inherit">&nbsp\;</div>\n</div>\n
LOCATION:1501 S. OWA Blvd. Foley\, Al
UID:e.1304.12610
SEQUENCE:3
DTSTAMP:20260424T103530Z
URL:https://business.eschamber.com/events/details/community-safety-day-12610
END:VEVENT

END:VCALENDAR
