BEGIN:VCALENDAR
VERSION:2.0
PRODID:-//ChamberMaster//Event Calendar 2.0//EN
METHOD:PUBLISH
X-PUBLISHED-TTL:P3D
REFRESH-INTERVAL:P3D
CALSCALE:GREGORIAN
BEGIN:VEVENT
DTSTART:20200823T014500Z
DTEND:20200823T030000Z
X-MICROSOFT-CDO-ALLDAYEVENT:FALSE
SUMMARY:Community Safety Day Fireworks
DESCRIPTION:Wrap up our 3rd Annual Community Safety Day with an epic free fireworks show celebrating the people that help keep our communities safe. Save the date for Saturday\, August 22nd. The fireworks go off at 8:45pm sharp. This marvelous show timed perfectly with music can be seen throughout the entire property. \n\nCommunity Safety Day is sure to be a blast at OWA\, so come early and save your seat!  For a prime spot in The Park\, check out the views from behind the Rollin' Thunder and our large fountain\, on the benches at the Midway Games\, or over by the Sky Balloons and the Magic Fountain! For prime spots in Downtown OWA check out the views at the two green spaces found on each side of Auntie Anne's/Cinnabon\, sipping a cocktail at Lucy's Retired Surfer Bar Beach Deck\, or spread a blanket to enjoy the Island.   A full schedule can be found here.
X-ALT-DESC;FMTTYPE=text/html:<p style="margin-left:0px\; margin-right:0px\; text-align:left"><strong>Wrap up our <a href="http://www.visitowa.com/safetyday" rel="noopener" style="background-color: transparent\; box-sizing: inherit\; color: rgb(0\, 178\, 196)\; cursor: pointer\; line-height: inherit\; text-decoration: none\;" target="_blank">3rd Annual Community Safety Day</a> with an epic free fireworks show celebrating the people that help keep our communities safe. Save the date for Saturday\, August 22nd. The fireworks go off at 8:45pm sharp. This marvelous show timed perfectly with music can be seen throughout the entire property.&nbsp\;</strong></p>\n\n<p style="margin-left:0px\; margin-right:0px\; text-align:left"><strong>Community Safety Day is sure to be a blast at OWA\, so come early and save your seat!&nbsp\; For a prime spot in The Park\, check out the views from behind the <a href="http://visitowa.com/explore/the-park/rollin-thunder/" rel="noopener" style="background-color: transparent\; box-sizing: inherit\; color: rgb(0\, 178\, 196)\; cursor: pointer\; line-height: inherit\; text-decoration: none\;" target="_blank">Rollin&rsquo\; Thunder</a> and our large fountain\, on the benches at the Midway Games\, or over by the <a href="http://visitowa.com/explore/the-park/sky-balloons/" rel="noopener" style="background-color: transparent\; box-sizing: inherit\; color: rgb(0\, 178\, 196)\; cursor: pointer\; line-height: inherit\; text-decoration: none\;" target="_blank">Sky Balloons</a> and the Magic Fountain! For prime spots in Downtown OWA check out the views at the two green spaces found on each side of <a href="http://visitowa.com/explore/downtown-owa/auntie-annes/" rel="noopener" style="background-color: transparent\; box-sizing: inherit\; color: rgb(0\, 178\, 196)\; cursor: pointer\; line-height: inherit\; text-decoration: none\;" target="_blank">Auntie Anne&rsquo\;s/Cinnabon</a>\, sipping a cocktail at <a href="http://visitowa.com/explore/downtown-owa/lucys/" rel="noopener" style="background-color: transparent\; box-sizing: inherit\; color: rgb(0\, 178\, 196)\; cursor: pointer\; line-height: inherit\; text-decoration: none\;" target="_blank">Lucy&rsquo\;s Retired Surfer Bar Beach Deck</a>\, or spread a blanket to enjoy the Island. &nbsp\; A full schedule can be found <a href="http://www.visitowa.com/safetyday" rel="noopener" style="background-color: transparent\; box-sizing: inherit\; color: rgb(0\, 178\, 196)\; cursor: pointer\; line-height: inherit\; text-decoration: none\;" target="_blank">here</a>.&nbsp\;</strong></p>\n
LOCATION:1501 S. OWA Blvd. Foley\, Al 36535
UID:e.1304.14274
SEQUENCE:3
DTSTAMP:20260421T214645Z
URL:https://business.eschamber.com/events/details/community-safety-day-fireworks-14274
END:VEVENT

END:VCALENDAR
