BEGIN:VCALENDAR
VERSION:2.0
PRODID:-//ChamberMaster//Event Calendar 2.0//EN
METHOD:PUBLISH
X-PUBLISHED-TTL:P3D
REFRESH-INTERVAL:P3D
CALSCALE:GREGORIAN
BEGIN:VEVENT
DTSTART:20221111T000000Z
DTEND:20221111T040000Z
X-MICROSOFT-CDO-ALLDAYEVENT:FALSE
SUMMARY:Cowboys & Cocktails
DESCRIPTION:The Future Founders of Thomas Hospital Foundation invite you to the first Cowboys & Cocktails. Hosted at Oak Hollow Farm\, the event will feature members of Thomas Hospital's pediatric care team\, live music\, corn hole\, heavy hors d'oeuvres and drinks from around Fairhope\, including Fairhope Brewing Company\, The Hope Farm\, and Provision.\n\n\n\nProceeds will support Thomas Hospital Foundation's mission to provide resources for high-quality healthcare to our community.
X-ALT-DESC;FMTTYPE=text/html:The Future Founders of Thomas Hospital Foundation invite you to the first Cowboys &amp\; Cocktails. Hosted at Oak Hollow Farm\, the event will feature members of Thomas Hospital&rsquo\;s pediatric care team\, live music\, corn hole\, heavy hors d&#39\;oeuvres and drinks from around Fairhope\, including Fairhope Brewing Company\, The Hope Farm\, and Provision.<br />\n<br />\nProceeds will support Thomas Hospital Foundation&rsquo\;s mission to provide resources for high-quality healthcare to our community.
LOCATION:Oak Hollow Farm\, 14210 S. Greeno Road\, Fairhope\, AL 36532
UID:e.1304.26458
SEQUENCE:3
DTSTAMP:20260423T162334Z
URL:https://business.eschamber.com/events/details/cowboys-cocktails-26458
END:VEVENT

END:VCALENDAR
