BEGIN:VCALENDAR
VERSION:2.0
PRODID:-//ChamberMaster//Event Calendar 2.0//EN
METHOD:PUBLISH
X-PUBLISHED-TTL:P3D
REFRESH-INTERVAL:P3D
CALSCALE:GREGORIAN
BEGIN:VEVENT
DTSTART:20201212T000000Z
DTEND:20201212T023000Z
X-MICROSOFT-CDO-ALLDAYEVENT:FALSE
SUMMARY:Daphne Family Movie Night
DESCRIPTION:
X-ALT-DESC;FMTTYPE=text/html:
LOCATION:Daphne City Hall\, Main Street\, Daphne\, AL
UID:e.1304.14887
SEQUENCE:3
DTSTAMP:20260424T015030Z
URL:https://business.eschamber.com/events/details/daphne-family-movie-night-14887
END:VEVENT

END:VCALENDAR
