BEGIN:VCALENDAR
VERSION:2.0
PRODID:-//ChamberMaster//Event Calendar 2.0//EN
METHOD:PUBLISH
X-PUBLISHED-TTL:P3D
REFRESH-INTERVAL:P3D
CALSCALE:GREGORIAN
BEGIN:VEVENT
DTSTART:20210705T020000Z
DTEND:20210705T023000Z
X-MICROSOFT-CDO-ALLDAYEVENT:FALSE
SUMMARY:Daphne's 4th of July Fireworks
DESCRIPTION:Come enjoy Daphne's 4th of July fireworks display.
X-ALT-DESC;FMTTYPE=text/html:Come enjoy Daphne&#39\;s 4th of July fireworks display.
LOCATION:Al Trione Sports Complex\, 8600 Whispering Pines Road\, Daphne\, AL
UID:e.1304.22066
SEQUENCE:3
DTSTAMP:20260420T114302Z
URL:https://business.eschamber.com/events/details/daphne-s-4th-of-july-fireworks-07-04-2021-22066
END:VEVENT

END:VCALENDAR
