BEGIN:VCALENDAR
VERSION:2.0
PRODID:-//ChamberMaster//Event Calendar 2.0//EN
METHOD:PUBLISH
X-PUBLISHED-TTL:P3D
REFRESH-INTERVAL:P3D
CALSCALE:GREGORIAN
BEGIN:VEVENT
DTSTART:20201205T170000Z
DTEND:20201205T180000Z
X-MICROSOFT-CDO-ALLDAYEVENT:FALSE
SUMMARY:Daphne's Christmas Parade
DESCRIPTION:Come out and watch the Daphne Christmas Parade.
X-ALT-DESC;FMTTYPE=text/html:Come out and watch the Daphne Christmas Parade.
LOCATION:Downtown Daphne
UID:e.1304.14886
SEQUENCE:3
DTSTAMP:20260424T014737Z
URL:https://business.eschamber.com/events/details/daphne-s-christmas-parade-14886
END:VEVENT

END:VCALENDAR
