BEGIN:VCALENDAR
VERSION:2.0
PRODID:-//ChamberMaster//Event Calendar 2.0//EN
METHOD:PUBLISH
X-PUBLISHED-TTL:P3D
REFRESH-INTERVAL:P3D
CALSCALE:GREGORIAN
BEGIN:VEVENT
DTSTART:20201204T000000Z
DTEND:20201204T020000Z
X-MICROSOFT-CDO-ALLDAYEVENT:FALSE
SUMMARY:Daphne's Tree Lighting & Open House
DESCRIPTION:
X-ALT-DESC;FMTTYPE=text/html:
LOCATION:Daphne City Hall\, Daphne\, AL
UID:e.1304.14885
SEQUENCE:3
DTSTAMP:20260424T014735Z
URL:https://business.eschamber.com/events/details/daphne-s-tree-lighting-open-house-12-03-2020-14885
END:VEVENT

END:VCALENDAR
