BEGIN:VCALENDAR
VERSION:2.0
PRODID:-//ChamberMaster//Event Calendar 2.0//EN
METHOD:PUBLISH
X-PUBLISHED-TTL:P3D
REFRESH-INTERVAL:P3D
CALSCALE:GREGORIAN
BEGIN:VEVENT
DTSTART:20230929T170000Z
DTEND:20230929T200000Z
X-MICROSOFT-CDO-ALLDAYEVENT:FALSE
SUMMARY:Davine Counseling Center Substance-Abuse Program Ribbon Cutting and Open House
DESCRIPTION:We are having a ribbon cutting and open house for our Substance-Abuse program.
X-ALT-DESC;FMTTYPE=text/html:We are having a ribbon cutting and open house for our Substance-Abuse program.
LOCATION:28851-B N Main St\, Daphne AL\, 36526
UID:e.1304.27990
SEQUENCE:3
DTSTAMP:20260420T021014Z
URL:https://business.eschamber.com/events/details/davine-counseling-center-substance-abuse-program-ribbon-cutting-and-open-house-27990
END:VEVENT

END:VCALENDAR
