BEGIN:VCALENDAR
VERSION:2.0
PRODID:-//ChamberMaster//Event Calendar 2.0//EN
METHOD:PUBLISH
X-PUBLISHED-TTL:P3D
REFRESH-INTERVAL:P3D
CALSCALE:GREGORIAN
BEGIN:VEVENT
DTSTART:20240713T150000Z
DTEND:20240713T190000Z
X-MICROSOFT-CDO-ALLDAYEVENT:FALSE
SUMMARY:DaVine Possibilities\, Inc
DESCRIPTION:We will have a silent auction\, 50/50 drawing\, face painting\, balloon animals\, a DJ\, Food\, and best yet you can throw a pie in a counselor's face. :) \n\n\n\nDaVine Possibilities is a portion of DaVine Counseling Center. It is a nonprofit program \n\n"Our mission is to enhance community well-being by ensuring accessible and compassionate mental health and substance abuse services for all. We strive to break down barriers to care\, promote mental health and substance abuse awareness\, and empower individuals to lead healthier\, more fulfilling lives."
X-ALT-DESC;FMTTYPE=text/html:We will have a silent auction\, 50/50 drawing\, face painting\, balloon animals\, a DJ\, Food\, and best yet you can throw a pie in a counselor&#39\;s face. :)&nbsp\;<br />\n<br />\nDaVine Possibilities is a portion of DaVine Counseling Center. It is a nonprofit program&nbsp\;<br />\n&quot\;Our mission is to enhance community well-being by ensuring accessible and compassionate mental health and substance abuse services for all. We strive to break down barriers to care\, promote mental health and substance abuse awareness\, and empower individuals to lead healthier\, more fulfilling lives.&quot\;<br />\n&nbsp\;
LOCATION:28851-B N. Main St Daphne AL 36526
UID:e.1304.32184
SEQUENCE:3
DTSTAMP:20260419T191009Z
URL:https://business.eschamber.com/events/details/davine-possibilities-inc-32184
END:VEVENT

END:VCALENDAR
