BEGIN:VCALENDAR
VERSION:2.0
PRODID:-//ChamberMaster//Event Calendar 2.0//EN
METHOD:PUBLISH
X-PUBLISHED-TTL:P3D
REFRESH-INTERVAL:P3D
CALSCALE:GREGORIAN
BEGIN:VEVENT
DTSTART:20210417T180000Z
DTEND:20210417T193000Z
X-MICROSOFT-CDO-ALLDAYEVENT:FALSE
SUMMARY:Delta Discovery Tour From Five Rivers Delta Resource Center
DESCRIPTION:This 90-minute excursion into the wild and scenic lower reaches of the Mobile-Tensaw Delta--known as the "American Amazon\,"--introduces visitors and residents alike to a truly astounding natural habitat. This cruise departs from the Bartram Landing at Five Rivers Delta Resource Center. The boat will operate at half capacity during the ongoing health crisis to allow for adequate social distancing. Guests are requested to wear masks.
X-ALT-DESC;FMTTYPE=text/html:This 90-minute excursion into the wild and scenic lower reaches of the Mobile-Tensaw Delta--known as the &quot\;American Amazon\,&quot\;--introduces visitors and residents alike to a truly astounding natural habitat. This cruise departs from the Bartram Landing at Five Rivers Delta Resource Center. The boat will operate at half capacity during the ongoing health crisis to allow for adequate social distancing. Guests are requested to wear masks.
LOCATION:Bartram Landing at Five Rivers Delta Resource Center
UID:e.1304.20573
SEQUENCE:3
DTSTAMP:20260423T192656Z
URL:https://business.eschamber.com/events/details/delta-discovery-tour-from-five-rivers-delta-resource-center-04-17-2021-20573
END:VEVENT

END:VCALENDAR
