BEGIN:VCALENDAR
VERSION:2.0
PRODID:-//ChamberMaster//Event Calendar 2.0//EN
METHOD:PUBLISH
X-PUBLISHED-TTL:P3D
REFRESH-INTERVAL:P3D
CALSCALE:GREGORIAN
BEGIN:VEVENT
DTSTART:20191110T220000Z
DTEND:20191110T233000Z
X-MICROSOFT-CDO-ALLDAYEVENT:FALSE
SUMMARY:Delta Sunset Eco Tour
DESCRIPTION:Nature Connect\, a local outdoor school on the Eastern Shore\, is hosting a Delta Sunset Eco Tour Fundraiser. Learn all about our incredible ecosystem while enjoying wine/beer and hors d'oeuvres. Knowledgeable nature guides with WildNative Tours will provide interesting information while guests spend quality time with friends and family.
X-ALT-DESC;FMTTYPE=text/html:Nature Connect\, a local outdoor school on the Eastern Shore\, is hosting a Delta Sunset Eco Tour Fundraiser. Learn all about our incredible ecosystem while enjoying wine/beer and hors d&#39\;oeuvres. Knowledgeable nature guides with WildNative Tours will provide interesting information while guests spend quality time with friends and family.
LOCATION:Departs from Cafe Del Rio Restaurant\, 1175 Battleship Parkway\, Spanish Fort\, AL
UID:e.1304.13015
SEQUENCE:3
DTSTAMP:20260419T154901Z
URL:https://business.eschamber.com/events/details/delta-sunset-eco-tour-13015
END:VEVENT

END:VCALENDAR
