BEGIN:VCALENDAR
VERSION:2.0
PRODID:-//ChamberMaster//Event Calendar 2.0//EN
METHOD:PUBLISH
X-PUBLISHED-TTL:P3D
REFRESH-INTERVAL:P3D
CALSCALE:GREGORIAN
BEGIN:VEVENT
DTSTART:20210226T060500Z
DTEND:20210301T055500Z
X-MICROSOFT-CDO-ALLDAYEVENT:FALSE
SUMMARY:Disaster Preparedness Sales Tax Free Holiday
DESCRIPTION:The Baldwin County Commission recently adopted the Severe Weather Preparedness Tax Holiday for 2021 which allows for the exemption of Baldwin County sales and use tax for certain items related to severe weather preparedness. This exemption\, along with the state's exemption for the same period\, gives shoppers the opportunity to purchase certain severe weather preparedness items without paying county or state sales tax. For a complete list of items that will be exempt during this time period\, please visit: https://revenue.alabama.gov/wp-content/uploads/2017/05/WPHolidayQuickRefSheet21.pdf
X-ALT-DESC;FMTTYPE=text/html:The Baldwin County Commission recently adopted the Severe Weather Preparedness Tax Holiday for 2021 which allows for the exemption of Baldwin County sales and use tax for certain items related to severe weather preparedness. This exemption\, along with the state&rsquo\;s exemption for the same period\, gives shoppers the opportunity to purchase certain severe weather preparedness items without paying county or state sales tax. For a complete list of items that will be exempt during this time period\, please visit: https://revenue.alabama.gov/wp-content/uploads/2017/05/WPHolidayQuickRefSheet21.pdf
LOCATION:Baldwin County\, Alabama
UID:e.1304.19352
SEQUENCE:3
DTSTAMP:20260424T001821Z
URL:https://business.eschamber.com/events/details/disaster-preparedness-sales-tax-free-holiday-19352
END:VEVENT

END:VCALENDAR
