BEGIN:VCALENDAR
VERSION:2.0
PRODID:-//ChamberMaster//Event Calendar 2.0//EN
METHOD:PUBLISH
X-PUBLISHED-TTL:P3D
REFRESH-INTERVAL:P3D
CALSCALE:GREGORIAN
BEGIN:VEVENT
DTSTART:20211218T200000Z
DTEND:20211218T210000Z
X-MICROSOFT-CDO-ALLDAYEVENT:FALSE
SUMMARY:Doggie Christmas Parade
DESCRIPTION:Bring your doggies to the Courtyard at Eastern Shore Centre on December 19th at 2pm dressed in their cutest Christmas attire for a parade around the interior sidewalks of ESC. Merchants will have dog treats\, and we will end at Barnes & Noble for Puppacinos. Fee is $10 CASH donation that will be given to The Prodisee Pantry in Spanish Fort\, AL to help feed families in need this holiday season. **Please bring exact change.**
X-ALT-DESC;FMTTYPE=text/html:Bring your doggies to the Courtyard at Eastern Shore Centre on December 19th at 2pm dressed in their cutest Christmas attire for a parade around the interior sidewalks of ESC. Merchants will have dog treats\, and we will end at Barnes &amp\; Noble for Puppacinos. Fee is $10 CASH donation that will be given to The Prodisee Pantry in Spanish Fort\, AL to help feed families in need this holiday season. **Please bring exact change.**
LOCATION:30500 Hwy 181\, Eastern Shore Centre\, Christmas Tree\, Spanish Fort\, AL
UID:e.1304.22899
SEQUENCE:3
DTSTAMP:20260421T101510Z
URL:https://business.eschamber.com/events/details/doggie-christmas-parade-22899
END:VEVENT

END:VCALENDAR
