BEGIN:VCALENDAR
VERSION:2.0
PRODID:-//ChamberMaster//Event Calendar 2.0//EN
METHOD:PUBLISH
X-PUBLISHED-TTL:P3D
REFRESH-INTERVAL:P3D
CALSCALE:GREGORIAN
BEGIN:VEVENT
DTSTART:20201024T190000Z
DTEND:20201024T210000Z
X-MICROSOFT-CDO-ALLDAYEVENT:FALSE
SUMMARY:Doggie Costume Contest
DESCRIPTION:Your fur babies deserve some Halloween fun\, too\, and we have teamed up with Eastern Shore Centre Merchant\, The Puppy Den\, to bring you our First Annual Doggie Costume Contest and Doggie Parade! Bring your dog(s) in their very best costume(s) to The Puppy Den for a chance to win between 2:00pm   4:00pm Saturday\, October 24th. Make a $10 donation (given to an animal rescue foundation)\, and a picture of your dog(s) "all dolled up" will be posted to the Eastern Shore Centre's Facebook page (fb.com/easternshorecentre) and Instagram (@easternshorectr)\, and the voting will begin. The dogs that receive the most votes from our Facebook community will be the winners! Three prizes will be awarded: "Best in Show"\, "Runner Up"\, and "Honorable Mention". At 4:00pm\, beginning at The Puppy Den\, all of the contestants will parade the sidewalks of Eastern Shore Centre and merchants will be giving out Doggie Halloween treats. The winners will be announced October 30th at 8:30pm at the Eastern Shore Centre Stage at the Spooktacular Halloween event.
X-ALT-DESC;FMTTYPE=text/html:Your fur babies deserve some Halloween fun\, too\, and we have teamed up with Eastern Shore Centre Merchant\, The Puppy Den\, to bring you our First Annual Doggie Costume Contest and Doggie Parade! Bring your dog(s) in their very best costume(s) to The Puppy Den for a chance to win between 2:00pm &ndash\; 4:00pm Saturday\, October 24th. Make a $10 donation (given to an animal rescue foundation)\, and a picture of your dog(s) &ldquo\;all dolled up&rdquo\; will be posted to the Eastern Shore Centre&rsquo\;s Facebook page (fb.com/easternshorecentre) and Instagram (@easternshorectr)\, and the voting will begin. The dogs that receive the most votes from our Facebook community will be the winners! Three prizes will be awarded: &ldquo\;Best in Show&rdquo\;\, &ldquo\;Runner Up&rdquo\;\, and &ldquo\;Honorable Mention&rdquo\;. At 4:00pm\, beginning at The Puppy Den\, all of the contestants will parade the sidewalks of Eastern Shore Centre and merchants will be giving out Doggie Halloween treats. The winners will be announced October 30th at 8:30pm at the Eastern Shore Centre Stage at the Spooktacular Halloween event.
LOCATION:The Puppy Den\, Eastern Shore Centre\, Spanish Fort\, AL
UID:e.1304.14837
SEQUENCE:3
DTSTAMP:20260424T054408Z
URL:https://business.eschamber.com/events/details/doggie-costume-contest-14837
END:VEVENT

END:VCALENDAR
