BEGIN:VCALENDAR
VERSION:2.0
PRODID:-//ChamberMaster//Event Calendar 2.0//EN
METHOD:PUBLISH
X-PUBLISHED-TTL:P3D
REFRESH-INTERVAL:P3D
CALSCALE:GREGORIAN
BEGIN:VEVENT
DTSTART:20211030T150000Z
DTEND:20211030T170000Z
X-MICROSOFT-CDO-ALLDAYEVENT:FALSE
SUMMARY:Downtown Fairhope Trick or Treat
DESCRIPTION:The Downtown Fairhope Business Association and the City of Fairhope will be holding Downtown Trick or Treat on October 30th from 10am-12pm. Pumpkins will be available at the desk at the Welcome Center beginning the first week of October.
X-ALT-DESC;FMTTYPE=text/html:The Downtown Fairhope Business Association and the City of Fairhope will be holding Downtown Trick or Treat on October 30th from 10am-12pm. Pumpkins will be available at the desk at the Welcome Center beginning the first week of October.
LOCATION:Downtown Fairhope
UID:e.1304.22632
SEQUENCE:3
DTSTAMP:20260421T024404Z
URL:https://business.eschamber.com/events/details/downtown-fairhope-trick-or-treat-10-30-2021-22632
END:VEVENT

END:VCALENDAR
