BEGIN:VCALENDAR
VERSION:2.0
PRODID:-//ChamberMaster//Event Calendar 2.0//EN
METHOD:PUBLISH
X-PUBLISHED-TTL:P3D
REFRESH-INTERVAL:P3D
CALSCALE:GREGORIAN
BEGIN:VEVENT
DTSTART:20201031T150000Z
DTEND:20201031T170000Z
X-MICROSOFT-CDO-ALLDAYEVENT:FALSE
SUMMARY:Downtown Fairhope Trick or Treat
DESCRIPTION:Remember to wear a mask (any mask) and join us for the Downtown Fairhope Trick or Treat\, brought to you by the Downtown Fairhope Business Association and the City of Fairhope.  Fun for all ages\, children are invited to trick or treat starting at the Fairhope Welcome Center\, pose for photos at the clock corner\, and visit participating merchants to fill their bags with goodies!  Social distancing and masks are strongly encouraged!
X-ALT-DESC;FMTTYPE=text/html:<p>Remember to wear a mask (any mask) and join us for the Downtown Fairhope Trick or Treat\, brought to you by the Downtown Fairhope Business Association and the City of Fairhope.&nbsp\; Fun for all ages\, children are invited to trick or treat starting at the Fairhope Welcome Center\, pose for photos at the clock corner\, and visit participating merchants to fill their bags with goodies!&nbsp\; Social distancing and masks are strongly encouraged!&nbsp\;</p>\n
LOCATION:Downtown Fairhope
UID:e.1304.14850
SEQUENCE:3
DTSTAMP:20260424T054614Z
URL:https://business.eschamber.com/events/details/downtown-fairhope-trick-or-treat-10-31-2020-14850
END:VEVENT

END:VCALENDAR
