BEGIN:VCALENDAR
VERSION:2.0
PRODID:-//ChamberMaster//Event Calendar 2.0//EN
METHOD:PUBLISH
X-PUBLISHED-TTL:P3D
REFRESH-INTERVAL:P3D
CALSCALE:GREGORIAN
BEGIN:VEVENT
DTSTART:20191021T133000Z
DTEND:20191021T203000Z
X-MICROSOFT-CDO-ALLDAYEVENT:FALSE
SUMMARY:Dr. Kevin Elko Professional Development Seminar
DESCRIPTION:Threaded Fasteners\, Inc. presents Dr. Kevin Elko Professional Development Seminar\, a day long seminar for professional and personal development.
X-ALT-DESC;FMTTYPE=text/html:Threaded Fasteners\, Inc. presents Dr. Kevin Elko Professional Development Seminar\, a day long seminar for professional and personal development.
LOCATION:Battle House Renaissance Hotel 26 N. Royal Street Mobile\, AL
UID:e.1304.12927
SEQUENCE:3
DTSTAMP:20260419T154810Z
URL:https://business.eschamber.com/events/details/dr-kevin-elko-professional-development-seminar-12927
END:VEVENT

END:VCALENDAR
