BEGIN:VCALENDAR
VERSION:2.0
PRODID:-//ChamberMaster//Event Calendar 2.0//EN
METHOD:PUBLISH
X-PUBLISHED-TTL:P3D
REFRESH-INTERVAL:P3D
CALSCALE:GREGORIAN
BEGIN:VEVENT
DTSTART:20201031T190000Z
DTEND:20201031T210000Z
X-MICROSOFT-CDO-ALLDAYEVENT:FALSE
SUMMARY:"Drive-thru" Trunk or Treat
DESCRIPTION:Fairhope Christian Church invites everyone to join us for a "Drive-Thru" Trunk or Treat event. Our members will be masked and in costume with their ghoulishly-decorated vehicles\, and will be giving out pre-filled bags of goodies for all little goblins and ghosts! No one will be allowed to exit their vehicles\, so we will all be staying a safe 6' distance from each car\, and all will be wearing masks. The drive-thru line will begin at our southwest entrance\, 349 Fairwood Blvd.\, Fairhope\, and will process around the church\, through the north side parking area\, exiting on Marsim Drive. So wear your spookiest costumes and hop in the car for a fun new way to celebrate Halloween! We hope you'll join us at Fairhope Christian Church\, as we celebrate Halloween 2020-style!
X-ALT-DESC;FMTTYPE=text/html:Fairhope Christian Church invites everyone to join us for a &quot\;Drive-Thru&quot\; Trunk or Treat event. Our members will be masked and in costume with their ghoulishly-decorated vehicles\, and will be giving out pre-filled bags of goodies for all little goblins and ghosts! No one will be allowed to exit their vehicles\, so we will all be staying a safe 6&rsquo\; distance from each car\, and all will be wearing masks. The drive-thru line will begin at our southwest entrance\, 349 Fairwood Blvd.\, Fairhope\, and will process around the church\, through the north side parking area\, exiting on Marsim Drive. So wear your spookiest costumes and hop in the car for a fun new way to celebrate Halloween! We hope you&rsquo\;ll join us at Fairhope Christian Church\, as we celebrate Halloween 2020-style!
LOCATION:Fairhope Christian Church\, 349 Fairwood Blvd.\, Fairhope\, AL
UID:e.1304.14834
SEQUENCE:3
DTSTAMP:20260424T044024Z
URL:https://business.eschamber.com/events/details/drive-thru-trunk-or-treat-14834
END:VEVENT

END:VCALENDAR
