BEGIN:VCALENDAR
VERSION:2.0
PRODID:-//ChamberMaster//Event Calendar 2.0//EN
METHOD:PUBLISH
X-PUBLISHED-TTL:P3D
REFRESH-INTERVAL:P3D
CALSCALE:GREGORIAN
BEGIN:VEVENT
DTSTART:20201024T150000Z
DTEND:20201024T180000Z
X-MICROSOFT-CDO-ALLDAYEVENT:FALSE
SUMMARY:Eastern Shore Children's Business Fair
DESCRIPTION:Observe the opportunity for children to launch their very own startup businesses! Kids develop a brand\, create a product or service\, build a marketing strategy\, and then open for customers at our one-day marketplace! FREE and open to the public! Sponsorships available!
X-ALT-DESC;FMTTYPE=text/html:Observe the opportunity for children to launch their very own startup businesses! Kids develop a brand\, create a product or service\, build a marketing strategy\, and then open for customers at our one-day marketplace! FREE and open to the public! Sponsorships available!&nbsp\;&nbsp\;
LOCATION:Centennial Park\, 1706 Main Street\, Daphne\, AL
UID:e.1304.14393
SEQUENCE:3
DTSTAMP:20260424T044045Z
URL:https://business.eschamber.com/events/details/eastern-shore-children-s-business-fair-14393
END:VEVENT

END:VCALENDAR
