BEGIN:VCALENDAR
VERSION:2.0
PRODID:-//ChamberMaster//Event Calendar 2.0//EN
METHOD:PUBLISH
X-PUBLISHED-TTL:P3D
REFRESH-INTERVAL:P3D
CALSCALE:GREGORIAN
BEGIN:VEVENT
DTSTART;VALUE=DATE:20210515
DTEND;VALUE=DATE:20210516
TRANSP:TRANSPARENT
X-MICROSOFT-CDO-ALLDAYEVENT:TRUE
SUMMARY:Eastern Shore Classic Rotary Pickleball Tournament
DESCRIPTION:Eastern Shore Classic Rotary Pickleball Tournament presented by Daphne/Spanish Fort Rotary and The Jubilee Pickleball Club of Daphne. Mixed doubles limited to 40 teams. The proceeds will benefit The Belforest Elementary School Leadership Program and Rotary Christmas Party for At Risk Youth. There will be food\, beverages\, swag and awards provided. There will be a Cornhole Side Tournament ($5.00 per team at the door). After party will be at Manci's Antique Club following the final match. Final Registration is May 8\, 2021.   Sponsorships are available.
X-ALT-DESC;FMTTYPE=text/html:Eastern Shore Classic Rotary Pickleball Tournament presented by Daphne/Spanish Fort Rotary and The Jubilee Pickleball Club of Daphne. Mixed doubles limited to 40 teams. The proceeds will benefit The Belforest Elementary School Leadership Program and Rotary Christmas Party for At Risk Youth. There will be food\, beverages\, swag and awards provided. There will be a Cornhole Side Tournament ($5.00 per team at the door). After party will be at Manci&#39\;s Antique Club following the final match. Final Registration is May 8\, 2021.&nbsp\; &nbsp\;Sponsorships are available.
LOCATION:W.O. Lott Park\, Daphne\, AL
UID:e.1304.20588
SEQUENCE:3
DTSTAMP:20260423T175348Z
URL:https://business.eschamber.com/events/details/eastern-shore-classic-rotary-pickleball-tournament-20588
END:VEVENT

END:VCALENDAR
