BEGIN:VCALENDAR
VERSION:2.0
PRODID:-//ChamberMaster//Event Calendar 2.0//EN
METHOD:PUBLISH
X-PUBLISHED-TTL:P3D
REFRESH-INTERVAL:P3D
CALSCALE:GREGORIAN
BEGIN:VEVENT
DTSTART:20210404T233000Z
DTEND:20210405T001500Z
X-MICROSOFT-CDO-ALLDAYEVENT:FALSE
SUMMARY:Eastern Shore Optimist Club Easter Sunrise Service
DESCRIPTION:The Eastern Shore Optimist Club will host the Easter Sunrise Service at 6:30 a.m. April 4th at the rose garden at the Fairhope Municipal Pier. Pastor Mark Price from Freedom Church in Fairhope will be presiding over the service. "Encore" and the Fairhope High School Ensemble will be singing at the Easter Sunrise Service. Everyone is encouraged to bring a lawn chair and to social distance by family pods.
X-ALT-DESC;FMTTYPE=text/html:The Eastern Shore Optimist Club will host the Easter Sunrise Service at 6:30 a.m. April 4th at the rose garden at the Fairhope Municipal Pier. Pastor Mark Price from Freedom Church in Fairhope will be presiding over the service. &quot\;Encore&quot\; and the Fairhope High School Ensemble will be singing at the Easter Sunrise Service. Everyone is encouraged to bring a lawn chair and to social distance by family pods.
LOCATION:Rose Garden at the Fairhope Pier
UID:e.1304.20584
SEQUENCE:3
DTSTAMP:20260423T204635Z
URL:https://business.eschamber.com/events/details/eastern-shore-optimist-club-easter-sunrise-service-20584
END:VEVENT

END:VCALENDAR
