BEGIN:VCALENDAR
VERSION:2.0
PRODID:-//ChamberMaster//Event Calendar 2.0//EN
METHOD:PUBLISH
X-PUBLISHED-TTL:P3D
REFRESH-INTERVAL:P3D
CALSCALE:GREGORIAN
BEGIN:VEVENT
DTSTART:20240726T180000Z
DTEND:20240726T193000Z
X-MICROSOFT-CDO-ALLDAYEVENT:FALSE
SUMMARY:Echo in the Canyon: 60’s Folk Rock Documentary (2018)
DESCRIPTION:Uncover the sound of 60s' folk with an Echo In the Canyon Documentary on July 26th at OWA Theater. This historical film revisits the influence and music of Southern California's folk-rock pioneers from the mid-60s Laurel Canyon scene\, highlighting their impact on the era and their transatlantic influence on The Beatles. Through performances by Jakob Dylan and contemporary artists like Beck\, Fiona Apple\, Norah Jones\, Regina Spektor\, and Cat Power\, the film pays homage to the seminal songs of that time. Dylan explores the personal stories behind these classics and the creative spirit of Los Angeles before psychedelia and the singer/songwriter era took hold. Don't miss this chance to explore the stories behind the sound that shaped American folk music. Doors open at noon\, so come early and enjoy drinks and refreshments before the show kicks off at 1pm.
X-ALT-DESC;FMTTYPE=text/html:Uncover the sound of 60s&rsquo\; folk with an Echo In the Canyon Documentary on July 26<sup>th</sup> at OWA Theater. This historical film revisits the influence and music of Southern California&#39\;s folk-rock pioneers from the mid-60s Laurel Canyon scene\, highlighting their impact on the era and their transatlantic influence on The Beatles. Through performances by Jakob Dylan and contemporary artists like Beck\, Fiona Apple\, Norah Jones\, Regina Spektor\, and Cat Power\, the film pays homage to the seminal songs of that time. Dylan explores the personal stories behind these classics and the creative spirit of Los Angeles before psychedelia and the singer/songwriter era took hold. Don&rsquo\;t miss this chance to explore the stories behind the sound that shaped American folk music. Doors open at noon\, so come early and enjoy drinks and refreshments before the show kicks off at 1pm.
LOCATION:OWA Theater
UID:e.1304.32188
SEQUENCE:3
DTSTAMP:20260419T192939Z
URL:https://business.eschamber.com/events/details/echo-in-the-canyon-60-s-folk-rock-documentary-2018-32188
END:VEVENT

END:VCALENDAR
