BEGIN:VCALENDAR
VERSION:2.0
PRODID:-//ChamberMaster//Event Calendar 2.0//EN
METHOD:PUBLISH
X-PUBLISHED-TTL:P3D
REFRESH-INTERVAL:P3D
CALSCALE:GREGORIAN
BEGIN:VEVENT
DTSTART:20231011T123000Z
DTEND:20231011T140000Z
X-MICROSOFT-CDO-ALLDAYEVENT:FALSE
SUMMARY:Eggs N' Issues: Alabama Port Authority
DESCRIPTION:Eggs N' Issues Presented by Alabama Port Authority\n\n\n\nSpeaker: \nRICK CLARK\n\nDeputy Director & Chief Operating Officer\n\nRichard "Rick" Clark is the Alabama Port Authority's deputy director. Joining the APA in 2019\, he is a seasoned professional with over 30 years of maritime industry experience.  Before joining the Port\, Rick served as interim chief operating officer and U.S. manager of operations for GT USA   a subsidiary of Gulftainer\, one of the world's leading international ports and logistics solution providers. In this role\, he led the execution of GT's first customer contract with SpaceX at their multipurpose cargo terminal in Port Canaveral\, Florida. Rick began his career at Cooper T. Smith in New Orleans before joining Puerto Rico Marine Management\, Inc. to direct the company's terminal\, cargo and warehouse operations.\n\nRick is active on numerous industry boards and community organizations\, including previously serving as the president of the Propeller Club Port of Canaveral and Port of Jacksonville\, Florida. Rick also served as a New York Shipping Association board member and is a Community Partner Impact Award recipient from the University of North Florida Transportation and Logistics Flagship Program.\n\nA native of Mobile\, Alabama\, Rick graduated with a Bachelor of Science in business management from Trinity Southern University and attended the University of South Alabama and the U.S. Merchant Marine Academy in Kings Point\, New York. Rick and his wife\, Jeanne\, currently reside in Daphne\, Alabama.
X-ALT-DESC;FMTTYPE=text/html:Eggs N&#39\; Issues Presented by Alabama Port Authority<br />\n<br />\n<span style="font-size:20px\;">Speaker:&nbsp\;</span>\n<h3 style="padding: 0px\; margin: 0px 0px 10px\; clear: both\; color: var(--the7-h3-color)\; text-transform: var(--the7-h3-text-transform)\;">RICK CLARK</h3>\n\n<p style="padding: 0px\; margin: 0px 0px 10px\; color: rgb(56\, 56\, 56)\; font-family: Raleway\, Helvetica\, Arial\, Verdana\, sans-serif\; font-size: 17px\;"><span style="padding: 0px\; margin: 0px\; color: rgb(106\, 162\, 185)\;"><span class="TextRun SCXW250341028 BCX4" data-contrast="none" lang="EN-US" style="padding: 0px\; margin: 0px\;" xml:lang="EN-US"><span class="NormalTextRun SCXW250341028 BCX4" data-ccp-parastyle="Normal (Web)" style="padding: 0px\; margin: 0px\;">Deputy Director</span></span><span class="EOP SCXW250341028 BCX4" data-ccp-props="{&quot\;134233117&quot\;:true\,&quot\;134233118&quot\;:true}" style="padding: 0px\; margin: 0px\;">&nbsp\;&amp\; Chief Operating Officer</span></span></p>\n\n<p style="padding: 0px\; margin: 0px 0px 10px\; color: rgb(56\, 56\, 56)\; font-family: Raleway\, Helvetica\, Arial\, Verdana\, sans-serif\; font-size: 17px\;">Richard &ldquo\;Rick&rdquo\; Clark is the Alabama Port Authority&rsquo\;s deputy director.&nbsp\;Joining the APA in 2019\, he is a seasoned professional with over 30 years of maritime industry experience.&#8239\;&nbsp\;Before joining the Port\, Rick served as interim chief operating officer and U.S. manager of operations for GT USA &ndash\; a subsidiary of Gulftainer\, one of the world&rsquo\;s leading international ports and logistics solution providers.&nbsp\;In this role\, he led the execution of GT&rsquo\;s first customer contract with SpaceX at their multipurpose cargo terminal in Port Canaveral\, Florida. Rick began his career at Cooper T. Smith in New Orleans before joining Puerto Rico Marine Management\, Inc. to direct the company&rsquo\;s terminal\, cargo and warehouse operations.</p>\n\n<p style="padding: 0px\; margin: 0px 0px 10px\; color: rgb(56\, 56\, 56)\; font-family: Raleway\, Helvetica\, Arial\, Verdana\, sans-serif\; font-size: 17px\;">Rick is active on numerous industry boards and community organizations\, including previously serving as the president of the Propeller Club Port of Canaveral and Port of Jacksonville\, Florida. Rick also served as a New York Shipping Association board member and is a Community Partner Impact Award recipient from the University of North Florida Transportation and Logistics Flagship Program.</p>\n\n<p style="padding: 0px\; margin: 0px\; color: rgb(56\, 56\, 56)\; font-family: Raleway\, Helvetica\, Arial\, Verdana\, sans-serif\; font-size: 17px\;">A native of Mobile\, Alabama\, Rick graduated with a Bachelor of Science in business management from Trinity Southern University and attended the University of South Alabama and the U.S. Merchant Marine Academy in Kings Point\, New York. Rick and his wife\, Jeanne\, currently reside in Daphne\, Alabama.</p>\n<br />\n<br />\n&nbsp\;
LOCATION:Resurrection Church 2401 Main Street in Daphne
UID:e.1304.28050
SEQUENCE:3
DTSTAMP:20260419T193532Z
URL:https://business.eschamber.com/events/details/eggs-n-issues-alabama-port-authority-28050
END:VEVENT

END:VCALENDAR
