BEGIN:VCALENDAR
VERSION:2.0
PRODID:-//ChamberMaster//Event Calendar 2.0//EN
METHOD:PUBLISH
X-PUBLISHED-TTL:P3D
REFRESH-INTERVAL:P3D
CALSCALE:GREGORIAN
BEGIN:VEVENT
DTSTART:20210514T000000Z
DTEND:20210514T030000Z
X-MICROSOFT-CDO-ALLDAYEVENT:FALSE
SUMMARY:ESAC's 3rd Annual White Linen Night gala
DESCRIPTION:Join us for a night with Ol' Blue Eyes at the Stardust Lounge supporting the Eastern Shore Art Center! Our 3rd Annual White Linen Night gala event will feature the musical stylings of the Sinatra era by Swing City Six featuring Doug Breau. Enjoy festive cocktails and a sensational menu by Guido's of Daphne\, plus both live and silent art auctions.
X-ALT-DESC;FMTTYPE=text/html:Join us for a night with Ol&#39\; Blue Eyes at the Stardust Lounge supporting the Eastern Shore Art Center! Our 3rd Annual White Linen Night gala event will feature the musical stylings of the Sinatra era by Swing City Six featuring Doug Breau. Enjoy festive cocktails and a sensational menu by Guido&#39\;s of Daphne\, plus both live and silent art auctions.
LOCATION:Eastern Shore Art Center\, 401 Oak Street\, Fairhope\, AL
UID:e.1304.20661
SEQUENCE:3
DTSTAMP:20260423T191617Z
URL:https://business.eschamber.com/events/details/esac-s-3rd-annual-white-linen-night-gala-20661
END:VEVENT

END:VCALENDAR
