BEGIN:VCALENDAR
VERSION:2.0
PRODID:-//ChamberMaster//Event Calendar 2.0//EN
METHOD:PUBLISH
X-PUBLISHED-TTL:P3D
REFRESH-INTERVAL:P3D
CALSCALE:GREGORIAN
BEGIN:VEVENT
DTSTART:20210407T210000Z
DTEND:20210407T220000Z
X-MICROSOFT-CDO-ALLDAYEVENT:FALSE
SUMMARY:ESAC Volunteer Appreciation Happy Hour
DESCRIPTION:All ESAC volunteers are invited to an afternoon of refreshments!
X-ALT-DESC;FMTTYPE=text/html:All ESAC volunteers are invited to an afternoon of refreshments!
LOCATION:Eastern Shore Art Center\, 401 Oak Street\, Fairhope\, AL
UID:e.1304.20581
SEQUENCE:3
DTSTAMP:20260423T192145Z
URL:https://business.eschamber.com/events/details/esac-volunteer-appreciation-happy-hour-20581
END:VEVENT

END:VCALENDAR
